BEGIN:VCALENDAR
VERSION:2.0
PRODID:-//Butler Elementary PTA - ECPv4.6.2//NONSGML v1.0//EN
CALSCALE:GREGORIAN
METHOD:PUBLISH
X-WR-CALNAME:Butler Elementary PTA
X-ORIGINAL-URL:http://www.butlerpta.org
X-WR-CALDESC:Events for Butler Elementary PTA
BEGIN:VEVENT
DTSTART;TZID=UTC-5:20180327T154500
DTEND;TZID=UTC-5:20180327T180000
DTSTAMP:20260419T131243
CREATED:20180321T023645Z
LAST-MODIFIED:20180321T023645Z
UID:2271-1522165500-1522173600@www.butlerpta.org
SUMMARY:Talent Show Auditions
DESCRIPTION:Calling all Butler 4th-6th graders! \nCLICK HERE to sign up for Talent Show Auditions! \nIf your act is not completely ready by this day\, it is OK. We just need to know what props\, music\, costumes\, etc. you will be using. (You do not need to bring these things to the audition unless you are playing an instrument and need to play it for us.) \nPlease bring your music on a flash drive to the audition. \nA permission slip will be coming home in student folders and will need to be signed by a parent and brought to auditions. \n
URL:http://www.butlerpta.org/event/talent-show-auditions/
ATTACH;FMTTYPE=image/jpeg:http://www.butlerpta.org/wp-content/uploads/2018/03/talent-show-auditions.jpg
END:VEVENT
END:VCALENDAR