BEGIN:VCALENDAR
VERSION:2.0
PRODID:-//Butler Elementary PTA - ECPv4.6.2//NONSGML v1.0//EN
CALSCALE:GREGORIAN
METHOD:PUBLISH
X-WR-CALNAME:Butler Elementary PTA
X-ORIGINAL-URL:http://www.butlerpta.org
X-WR-CALDESC:Events for Butler Elementary PTA
BEGIN:VEVENT
DTSTART;TZID=UTC-5:20180222T160000
DTEND;TZID=UTC-5:20180222T200000
DTSTAMP:20260419T143233
CREATED:20180213T044850Z
LAST-MODIFIED:20180213T044850Z
UID:2242-1519315200-1519329600@www.butlerpta.org
SUMMARY:Spirit Night at Torchy's Tacos
DESCRIPTION:Hungry after school?  Ball practice? Dance?  Clubs?  Head on over to Torchy’s Tacos North Arlington for a snack or dinner\, and Torchy’s will give back a portion of all sales to Butler!  Invite your friends\, family\, and neighbors too! \n
URL:http://www.butlerpta.org/event/spirit-night-at-torchys-tacos/
LOCATION:1805 N. Collins St.\, Arlington\, TX\, 76011\, United States
END:VEVENT
END:VCALENDAR