BEGIN:VCALENDAR
VERSION:2.0
PRODID:-//Butler Elementary PTA - ECPv4.6.2//NONSGML v1.0//EN
CALSCALE:GREGORIAN
METHOD:PUBLISH
X-WR-CALNAME:Butler Elementary PTA
X-ORIGINAL-URL:http://www.butlerpta.org
X-WR-CALDESC:Events for Butler Elementary PTA
BEGIN:VEVENT
DTSTART;VALUE=DATE:20171031
DTEND;VALUE=DATE:20171101
DTSTAMP:20260419T133744
CREATED:20171013T041218Z
LAST-MODIFIED:20171013T041218Z
UID:2038-1509408000-1509494399@www.butlerpta.org
SUMMARY:Reflections Entries Due
DESCRIPTION:Reach your creative potential with the PTA Reflections Program!  Create an original artistic piece that reflects on this year’s theme: “Within Reach.” \n \n
URL:http://www.butlerpta.org/event/reflections-entries-due/
END:VEVENT
END:VCALENDAR