BEGIN:VCALENDAR
VERSION:2.0
PRODID:-//Butler Elementary PTA - ECPv4.6.2//NONSGML v1.0//EN
CALSCALE:GREGORIAN
METHOD:PUBLISH
X-WR-CALNAME:Butler Elementary PTA
X-ORIGINAL-URL:http://www.butlerpta.org
X-WR-CALDESC:Events for Butler Elementary PTA
BEGIN:VEVENT
DTSTART;TZID=UTC-5:20171109T190000
DTEND;TZID=UTC-5:20171109T200000
DTSTAMP:20260421T103821
CREATED:20170926T001038Z
LAST-MODIFIED:20171020T044020Z
UID:1936-1510254000-1510257600@www.butlerpta.org
SUMMARY:PTA Regular Meeting and Veterans' Day Program
DESCRIPTION:Join us for a snack supper at 6:30pm\, and be sure to make your final selections at the Book Fair which ends at 7pm! \nWe will have a short meeting during which the Fall PRAISE (Parents Recognizing & Awarding Innovative\, Savvy Educators) Award will be given out to an outstanding Butler teacher\, and we will vote on our updated bylaws & standing rules. \nFinally\, our kids\, staff and community will host an incredible tribute to honor our military veterans and their families. You won’t want to miss it! \n  \n
URL:http://www.butlerpta.org/event/pta-regular-meeting-and-veterans-day-program/
CATEGORIES:PTA Meetings
END:VEVENT
END:VCALENDAR