BEGIN:VCALENDAR
VERSION:2.0
PRODID:-//Butler Elementary PTA - ECPv4.6.2//NONSGML v1.0//EN
CALSCALE:GREGORIAN
METHOD:PUBLISH
X-WR-CALNAME:Butler Elementary PTA
X-ORIGINAL-URL:http://www.butlerpta.org
X-WR-CALDESC:Events for Butler Elementary PTA
BEGIN:VEVENT
DTSTART;TZID=UTC-5:20180118T190000
DTEND;TZID=UTC-5:20180118T200000
DTSTAMP:20260421T104207
CREATED:20170926T001936Z
LAST-MODIFIED:20180112T052507Z
UID:1953-1516302000-1516305600@www.butlerpta.org
SUMMARY:PTA Meeting & Orchestra Showcase
DESCRIPTION:Join us for our January PTA meeting & orchestra showcase! Snack supper will be served @ 6:30pm\, meeting starts @ 7pm. Special recognition of our AWARE nominees (Mrs. Jacobs\, 6th & Mrs. Wallace\, 4th) and PTA LIFE Members\, and then\, Mrs. Hooper and our 6th grade Bronco orchestra will perform. You won’t want to miss it! \n
URL:http://www.butlerpta.org/event/pta-meeting/
CATEGORIES:PTA Meetings
END:VEVENT
END:VCALENDAR