BEGIN:VCALENDAR
VERSION:2.0
PRODID:-//Butler Elementary PTA - ECPv4.6.2//NONSGML v1.0//EN
CALSCALE:GREGORIAN
METHOD:PUBLISH
X-WR-CALNAME:Butler Elementary PTA
X-ORIGINAL-URL:http://www.butlerpta.org
X-WR-CALDESC:Events for Butler Elementary PTA
BEGIN:VEVENT
DTSTART;TZID=UTC-5:20180510T190000
DTEND;TZID=UTC-5:20180510T200000
DTSTAMP:20260421T091800
CREATED:20170926T002436Z
LAST-MODIFIED:20180509T033611Z
UID:1966-1525978800-1525982400@www.butlerpta.org
SUMMARY:PTA Meeting
DESCRIPTION:Join us for the final PTA meeting of the year & a celebration of music with our kindergarteners! \nPizza Dinner: Begins at 6:30 p.m. in the cafeteria.  $2 for a slice of pizza\, drink\, & cookie; $10 for a whole pizza \nPTA Regular Membership Meeting begins at 7:00 p.m.  Thank you to Pack 378 for presenting the flags! \nKinder Presentation will take place immediately following the PTA meeting. Our kindergarteners have put together a special presentation for the parents! \nDon’t forget Fun Friday the next day! Kona Ice will be serving at Gibbins Park (next to the school) after school on Friday! \n
URL:http://www.butlerpta.org/event/pta-meeting-3/
CATEGORIES:PTA Meetings
ATTACH;FMTTYPE=image/jpeg:http://www.butlerpta.org/wp-content/uploads/2017/09/Kinder-concert.jpg
END:VEVENT
END:VCALENDAR