BEGIN:VCALENDAR
VERSION:2.0
PRODID:-//Butler Elementary PTA - ECPv4.6.2//NONSGML v1.0//EN
CALSCALE:GREGORIAN
METHOD:PUBLISH
X-WR-CALNAME:Butler Elementary PTA
X-ORIGINAL-URL:http://www.butlerpta.org
X-WR-CALDESC:Events for Butler Elementary PTA
BEGIN:VEVENT
DTSTART;TZID=UTC-5:20180308T180000
DTEND;TZID=UTC-5:20180308T193000
DTSTAMP:20260421T103827
CREATED:20170926T002203Z
LAST-MODIFIED:20180303T012411Z
UID:1960-1520532000-1520537400@www.butlerpta.org
SUMMARY:Open House\, PTA Meeting\, and Recorder Concert
DESCRIPTION: \n
URL:http://www.butlerpta.org/event/pta-meeting-2/
CATEGORIES:PTA Meetings
END:VEVENT
END:VCALENDAR