BEGIN:VCALENDAR
VERSION:2.0
PRODID:-//Butler Elementary PTA - ECPv4.6.2//NONSGML v1.0//EN
CALSCALE:GREGORIAN
METHOD:PUBLISH
X-WR-CALNAME:Butler Elementary PTA
X-ORIGINAL-URL:http://www.butlerpta.org
X-WR-CALDESC:Events for Butler Elementary PTA
BEGIN:VEVENT
DTSTART;TZID=UTC-5:20180119T153500
DTEND;TZID=UTC-5:20180119T163000
DTSTAMP:20260419T155149
CREATED:20180112T044917Z
LAST-MODIFIED:20180112T044917Z
UID:2185-1516376100-1516379400@www.butlerpta.org
SUMMARY:Popcorn Friday!
DESCRIPTION:Join us in front of the school after dismissal for popcorn! Kids get a voucher for a FREE bag of popcorn when their parents attend the PTA meeting the night before on January 18! Popcorn can also be purchased for $.50 per bag. \n
URL:http://www.butlerpta.org/event/popcorn-friday/
ATTACH;FMTTYPE=image/jpeg:http://www.butlerpta.org/wp-content/uploads/2017/09/popcorn-clip.jpg
END:VEVENT
END:VCALENDAR