BEGIN:VCALENDAR
VERSION:2.0
PRODID:-//Butler Elementary PTA - ECPv4.6.2//NONSGML v1.0//EN
CALSCALE:GREGORIAN
METHOD:PUBLISH
X-WR-CALNAME:Butler Elementary PTA
X-ORIGINAL-URL:http://www.butlerpta.org
X-WR-CALDESC:Events for Butler Elementary PTA
BEGIN:VEVENT
DTSTART;VALUE=DATE:20170928
DTEND;VALUE=DATE:20170929
DTSTAMP:20260419T131135
CREATED:20170926T000449Z
LAST-MODIFIED:20170926T000449Z
UID:1928-1506556800-1506643199@www.butlerpta.org
SUMMARY:Picture Day
DESCRIPTION:
URL:http://www.butlerpta.org/event/picture-day/
CATEGORIES:School Event
END:VEVENT
END:VCALENDAR