BEGIN:VCALENDAR
VERSION:2.0
PRODID:-//Butler Elementary PTA - ECPv4.6.2//NONSGML v1.0//EN
CALSCALE:GREGORIAN
METHOD:PUBLISH
X-WR-CALNAME:Butler Elementary PTA
X-ORIGINAL-URL:http://www.butlerpta.org
X-WR-CALDESC:Events for Butler Elementary PTA
BEGIN:VEVENT
DTSTART;TZID=UTC-5:20190925T083000
DTEND;TZID=UTC-5:20190925T120000
DTSTAMP:20260419T122503
CREATED:20190907T165636Z
LAST-MODIFIED:20190907T165636Z
UID:2945-1569400200-1569412800@www.butlerpta.org
SUMMARY:Picture Day
DESCRIPTION:
URL:http://www.butlerpta.org/event/picture-day-2/
END:VEVENT
END:VCALENDAR