BEGIN:VCALENDAR
VERSION:2.0
PRODID:-//Butler Elementary PTA - ECPv4.6.2//NONSGML v1.0//EN
CALSCALE:GREGORIAN
METHOD:PUBLISH
X-WR-CALNAME:Butler Elementary PTA
X-ORIGINAL-URL:http://www.butlerpta.org
X-WR-CALDESC:Events for Butler Elementary PTA
BEGIN:VEVENT
DTSTART;VALUE=DATE:20180117
DTEND;VALUE=DATE:20180118
DTSTAMP:20260419T160235
CREATED:20180112T045821Z
LAST-MODIFIED:20180112T045821Z
UID:2189-1516147200-1516233599@www.butlerpta.org
SUMMARY:International Night Sign-Ups Due
DESCRIPTION:International Night at Butler Elementary will be held Tuesday\, February 13 from 6-7:30 p.m.  See the  event page for more details and watch your student’s folder for more information!  Please return your sign-up form by today to Mrs. Meredith\, Butler’s Community Engagement Liaison. \n  \n
URL:http://www.butlerpta.org/event/international-night-sign-ups-due/
END:VEVENT
END:VCALENDAR