BEGIN:VCALENDAR
VERSION:2.0
PRODID:-//Butler Elementary PTA - ECPv4.6.2//NONSGML v1.0//EN
CALSCALE:GREGORIAN
METHOD:PUBLISH
X-WR-CALNAME:Butler Elementary PTA
X-ORIGINAL-URL:http://www.butlerpta.org
X-WR-CALDESC:Events for Butler Elementary PTA
BEGIN:VEVENT
DTSTART;TZID=UTC-5:20171109T103000
DTEND;TZID=UTC-5:20171109T133000
DTSTAMP:20260419T145831
CREATED:20170926T000730Z
LAST-MODIFIED:20171024T033302Z
UID:1934-1510223400-1510234200@www.butlerpta.org
SUMMARY:Grandparents Day
DESCRIPTION:Grandparents are invited to join their grandchildren for lunch!  Click here for the invitation! \nIf you wish\, you may bring lunch\, or purchase lunch in the cafeteria ($3.55 adult/$2.65 child). \n10:30 – 11am – 1st grade\n11 – 11:30am – 2nd grade AND 6th grade\n11:30am – 12pm – 3rd grade\n12:15 – 12:45pm – Kindergarten\n12:30 – 1pm – 5th grade\n1 – 1:30pm – 4th grade \nPlease be sure to RSVP to butlerptaboard@yahoo.com with your name & your grandchild’s name/grade so we can print a visitor’s badge for you. If you have never been to Butler\, you will need to bring photo ID for check in. \nA gift for our grandparents\, photo opportunities along with shopping at the Book Fair and for PTA memberships\, yearbooks and spirit items all available. \nLooking forward to a fun-filled day! \n
URL:http://www.butlerpta.org/event/grandparents-day/
CATEGORIES:School Event
ATTACH;FMTTYPE=image/jpeg:http://www.butlerpta.org/wp-content/uploads/2017/10/Grandparents.jpg
END:VEVENT
END:VCALENDAR