BEGIN:VCALENDAR
VERSION:2.0
PRODID:-//Butler Elementary PTA - ECPv4.6.2//NONSGML v1.0//EN
CALSCALE:GREGORIAN
METHOD:PUBLISH
X-WR-CALNAME:Butler Elementary PTA
X-ORIGINAL-URL:http://www.butlerpta.org
X-WR-CALDESC:Events for Butler Elementary PTA
BEGIN:VEVENT
DTSTART;TZID=UTC-5:20171110T153500
DTEND;TZID=UTC-5:20171110T163000
DTSTAMP:20260419T130406
CREATED:20170926T001318Z
LAST-MODIFIED:20171020T050320Z
UID:1938-1510328100-1510331400@www.butlerpta.org
SUMMARY:Popcorn Friday!
DESCRIPTION: \nJoin us in front of the school after dismissal for popcorn!  Kids get a voucher for a FREE bag of popcorn when their parents attend the PTA meeting the night before on November 9!  Popcorn can also be purchased for $.50 per bag. \n  \n  \n
URL:http://www.butlerpta.org/event/fun-friday/
ATTACH;FMTTYPE=image/jpeg:http://www.butlerpta.org/wp-content/uploads/2017/09/popcorn-clip.jpg
END:VEVENT
END:VCALENDAR