BEGIN:VCALENDAR
VERSION:2.0
PRODID:-//Butler Elementary PTA - ECPv4.6.2//NONSGML v1.0//EN
CALSCALE:GREGORIAN
METHOD:PUBLISH
X-WR-CALNAME:Butler Elementary PTA
X-ORIGINAL-URL:http://www.butlerpta.org
X-WR-CALDESC:Events for Butler Elementary PTA
BEGIN:VEVENT
DTSTART;TZID=UTC-5:20180309T153500
DTEND;TZID=UTC-5:20180309T163000
DTSTAMP:20260419T130459
CREATED:20180303T014053Z
LAST-MODIFIED:20180303T014202Z
UID:2259-1520609700-1520613000@www.butlerpta.org
SUMMARY:Fun Friday with Kona Ice
DESCRIPTION:Join us at Gibbons Park for Fun Friday and start off Spring Break with a bang!  The Kona Ice truck will be there with cool treats for purchase! \n
URL:http://www.butlerpta.org/event/fun-friday-with-kona-ice/
END:VEVENT
END:VCALENDAR