BEGIN:VCALENDAR
VERSION:2.0
PRODID:-//Butler Elementary PTA - ECPv4.6.2//NONSGML v1.0//EN
CALSCALE:GREGORIAN
METHOD:PUBLISH
X-WR-CALNAME:Butler Elementary PTA
X-ORIGINAL-URL:http://www.butlerpta.org
X-WR-CALDESC:Events for Butler Elementary PTA
BEGIN:VEVENT
DTSTART;VALUE=DATE:20210816
DTEND;VALUE=DATE:20210817
DTSTAMP:20260421T092604
CREATED:20210810T033934Z
LAST-MODIFIED:20210810T033934Z
UID:3145-1629072000-1629158399@www.butlerpta.org
SUMMARY:First Day of School
DESCRIPTION:
URL:http://www.butlerpta.org/event/first-day-of-school-3/
END:VEVENT
END:VCALENDAR