BEGIN:VCALENDAR
VERSION:2.0
PRODID:-//Butler Elementary PTA - ECPv4.6.2//NONSGML v1.0//EN
CALSCALE:GREGORIAN
METHOD:PUBLISH
X-WR-CALNAME:Butler Elementary PTA
X-ORIGINAL-URL:http://www.butlerpta.org
X-WR-CALDESC:Events for Butler Elementary PTA
BEGIN:VEVENT
DTSTART;VALUE=DATE:20180524
DTEND;VALUE=DATE:20180525
DTSTAMP:20260421T091924
CREATED:20180321T030838Z
LAST-MODIFIED:20180425T204025Z
UID:2284-1527120000-1527206399@www.butlerpta.org
SUMMARY:Field Day (K-3rd grades)
DESCRIPTION:Schedule:\n3rd grade – 8:30-9:45am (field time)\, 9:45-10:30am (concessions)\nKinder – 9:45-11am (field time)\, 11-11:45am (concessions)\n2nd – 11am-12:15pm (field time)\, 12:15-1pm (concessions)\n1st – 12:15-1:30pm (field time)\, 1:30-2:15pm (concessions) \nIn case of rain\, the makeup day will be Wednesday\, May 30. \nVolunteer opportunities will be available; more details to come! \n  \n
URL:http://www.butlerpta.org/event/field-day-k-3rd-grades/
CATEGORIES:School Event
ATTACH;FMTTYPE=image/jpeg:http://www.butlerpta.org/wp-content/uploads/2018/03/Field-Day.jpg
END:VEVENT
END:VCALENDAR