BEGIN:VCALENDAR
VERSION:2.0
PRODID:-//Butler Elementary PTA - ECPv4.6.2//NONSGML v1.0//EN
CALSCALE:GREGORIAN
METHOD:PUBLISH
X-WR-CALNAME:Butler Elementary PTA
X-ORIGINAL-URL:http://www.butlerpta.org
X-WR-CALDESC:Events for Butler Elementary PTA
BEGIN:VEVENT
DTSTART;TZID=UTC-5:20190819T074500
DTEND;TZID=UTC-5:20190819T090000
DTSTAMP:20260421T092434
CREATED:20190803T173440Z
LAST-MODIFIED:20190803T173440Z
UID:2908-1566200700-1566205200@www.butlerpta.org
SUMMARY:Cheer and Tears Breakfast
DESCRIPTION:Join us in the library for donuts and coffee in celebration of the first day of school!  Hugs and tissues also available for those of us that need to shed a few a tears. \n
URL:http://www.butlerpta.org/event/cheer-and-tears-breakfast/
END:VEVENT
END:VCALENDAR