BEGIN:VCALENDAR
VERSION:2.0
PRODID:-//Butler Elementary PTA - ECPv4.6.2//NONSGML v1.0//EN
CALSCALE:GREGORIAN
METHOD:PUBLISH
X-WR-CALNAME:Butler Elementary PTA
X-ORIGINAL-URL:http://www.butlerpta.org
X-WR-CALDESC:Events for Butler Elementary PTA
BEGIN:VEVENT
DTSTART;TZID=UTC-5:20210929T183000
DTEND;TZID=UTC-5:20210929T183000
DTSTAMP:20260421T092330
CREATED:20210911T150808Z
LAST-MODIFIED:20210911T150808Z
UID:3220-1632940200-1632940200@www.butlerpta.org
SUMMARY:Butler PTA Meeting
DESCRIPTION:Join us at Gibbins Park for our first PTA meeting for the 21/22 school year \n
URL:http://www.butlerpta.org/event/butler-pta-meeting/
LOCATION:2101 Margaret Drive\, Arlington\, TX\, 76012\, United States
CATEGORIES:PTA Meetings
END:VEVENT
END:VCALENDAR