BEGIN:VCALENDAR
VERSION:2.0
PRODID:-//Butler Elementary PTA - ECPv4.6.2//NONSGML v1.0//EN
CALSCALE:GREGORIAN
METHOD:PUBLISH
X-WR-CALNAME:Butler Elementary PTA
X-ORIGINAL-URL:http://www.butlerpta.org
X-WR-CALDESC:Events for Butler Elementary PTA
BEGIN:VEVENT
DTSTART;TZID=UTC-5:20180511T173000
DTEND;TZID=UTC-5:20180511T200000
DTSTAMP:20260421T092718
CREATED:20180405T042612Z
LAST-MODIFIED:20180425T201508Z
UID:2308-1526059800-1526068800@www.butlerpta.org
SUMMARY:Butler Family Fun Fest
DESCRIPTION:Calling all Broncos\, their families\, friends and our community neighbors! Come one\, come all to the Butler Family Fun Fest\, hosted by Butler Dad’s Club and PTA. \nJoin us for BBQ\, funnel cakes\, snow cones\, hay rides\, inflatables\, silent auction\, games & prizes and entertainment.  You are not going to want to miss this incredible Butler tradition! \nThis year\, you can buy your tickets online and pick them up that night at the Fun Fest!  To purchase tickets\, click here: https://squareup.com/store/butler-elementary-pta. \n
URL:http://www.butlerpta.org/event/butler-family-fun-fest/
ATTACH;FMTTYPE=image/jpeg:http://www.butlerpta.org/wp-content/uploads/2018/04/2018-Butler-Family-Fun-Fest.jpg
END:VEVENT
END:VCALENDAR