BEGIN:VCALENDAR
VERSION:2.0
PRODID:-//Butler Elementary PTA - ECPv4.6.2//NONSGML v1.0//EN
CALSCALE:GREGORIAN
METHOD:PUBLISH
X-WR-CALNAME:Butler Elementary PTA
X-ORIGINAL-URL:http://www.butlerpta.org
X-WR-CALDESC:Events for Butler Elementary PTA
BEGIN:VEVENT
DTSTART;VALUE=DATE:20171106
DTEND;VALUE=DATE:20171110
DTSTAMP:20260419T131743
CREATED:20170926T000659Z
LAST-MODIFIED:20171024T032330Z
UID:1932-1509926400-1510271999@www.butlerpta.org
SUMMARY:Book Fair
DESCRIPTION:Book Fair is coming November 6-9!!\nNov 6th is Preview Day\nNov 7-9 open from 8:00-4:00\nNov 9 Grandparents Day lunch and open before the PTA meeting from 6:00-7:00 \n
URL:http://www.butlerpta.org/event/book-fair/
CATEGORIES:School Event
ATTACH;FMTTYPE=image/jpeg:http://www.butlerpta.org/wp-content/uploads/2017/09/BookFair2017.jpg
END:VEVENT
END:VCALENDAR