BEGIN:VCALENDAR
VERSION:2.0
PRODID:-//Butler Elementary PTA - ECPv4.6.2//NONSGML v1.0//EN
CALSCALE:GREGORIAN
METHOD:PUBLISH
X-WR-CALNAME:Butler Elementary PTA
X-ORIGINAL-URL:http://www.butlerpta.org
X-WR-CALDESC:Events for Butler Elementary PTA
BEGIN:VEVENT
DTSTART;TZID=UTC-5:20191107T080000
DTEND;TZID=UTC-5:20191107T153000
DTSTAMP:20260419T115432
CREATED:20190907T165413Z
LAST-MODIFIED:20190907T165413Z
UID:2943-1573113600-1573140600@www.butlerpta.org
SUMMARY:Book Fair
DESCRIPTION:Come by the Library to shop our Book Fair!  Book Fair will be November 5-November 7\, during school hours. \n
URL:http://www.butlerpta.org/event/book-fair-5/
END:VEVENT
END:VCALENDAR