BEGIN:VCALENDAR
VERSION:2.0
PRODID:-//Butler Elementary PTA - ECPv4.6.2//NONSGML v1.0//EN
CALSCALE:GREGORIAN
METHOD:PUBLISH
X-WR-CALNAME:Butler Elementary PTA
X-ORIGINAL-URL:http://www.butlerpta.org
X-WR-CALDESC:Events for Butler Elementary PTA
BEGIN:VEVENT
DTSTART;VALUE=DATE:20180209
DTEND;VALUE=DATE:20180210
DTSTAMP:20260419T161303
CREATED:20180112T051045Z
LAST-MODIFIED:20180112T051045Z
UID:2197-1518134400-1518220799@www.butlerpta.org
SUMMARY:Board Member Interest Indicator Forms Due
DESCRIPTION:We are looking for folks to join the work of Butler PTA for the 2018-2019 school year by serving as Board members. If you would like to get involved\, please fill out the form HERE and return to Mrs. Humbles by Friday\, February 9th. This form will also be sent home in your child’s take-home folder. \nIf you have questions about any position\, please feel free to ask! A list of current Board members can be found at http://www.butlerpta.org/board/. \n
URL:http://www.butlerpta.org/event/board-member-interest-indicator-forms-due/
ATTACH;FMTTYPE=image/jpeg:http://www.butlerpta.org/wp-content/uploads/2018/01/Get-on-board.jpg
END:VEVENT
END:VCALENDAR